BEGIN:VCALENDAR
VERSION:2.0
PRODID:-// - ECPv6.15.18//NONSGML v1.0//EN
CALSCALE:GREGORIAN
METHOD:PUBLISH
X-ORIGINAL-URL:https://www.tsvneuburg-schwimmen.de
X-WR-CALDESC:Veranstaltungen für 
REFRESH-INTERVAL;VALUE=DURATION:PT1H
X-Robots-Tag:noindex
X-PUBLISHED-TTL:PT1H
BEGIN:VTIMEZONE
TZID:Europe/Berlin
BEGIN:DAYLIGHT
TZOFFSETFROM:+0100
TZOFFSETTO:+0200
TZNAME:CEST
DTSTART:20240331T010000
END:DAYLIGHT
BEGIN:STANDARD
TZOFFSETFROM:+0200
TZOFFSETTO:+0100
TZNAME:CET
DTSTART:20241027T010000
END:STANDARD
BEGIN:DAYLIGHT
TZOFFSETFROM:+0100
TZOFFSETTO:+0200
TZNAME:CEST
DTSTART:20250330T010000
END:DAYLIGHT
BEGIN:STANDARD
TZOFFSETFROM:+0200
TZOFFSETTO:+0100
TZNAME:CET
DTSTART:20251026T010000
END:STANDARD
BEGIN:DAYLIGHT
TZOFFSETFROM:+0100
TZOFFSETTO:+0200
TZNAME:CEST
DTSTART:20260329T010000
END:DAYLIGHT
BEGIN:STANDARD
TZOFFSETFROM:+0200
TZOFFSETTO:+0100
TZNAME:CET
DTSTART:20261025T010000
END:STANDARD
END:VTIMEZONE
BEGIN:VEVENT
DTSTART;TZID=Europe/Berlin:20251012T080000
DTEND;TZID=Europe/Berlin:20251013T170000
DTSTAMP:20260422T063315
CREATED:20230829T161919Z
LAST-MODIFIED:20251010T081246Z
UID:7960-1760256000-1760374800@www.tsvneuburg-schwimmen.de
SUMMARY:5. Ingolstädter Nachwuchsschwimmfest in Ingolstadt
DESCRIPTION:Ausschreibung\nMeldeliste\nMeldeergebnis\nInfobrief\n  \nTSV-Meldeschluss: 29.09.2025 \nAbfahrt Schlösselwiese: 12.10.2025 um 07:30 Uhr
URL:https://www.tsvneuburg-schwimmen.de/events/ingolstaedter-nachwuchsschwimmfest/
LOCATION:Ingolstadt – Hallenabd – Südwest\, Lindberghstraße 71\, Ingolstadt\, Bayern\, 85051\, Deutschland
ORGANIZER;CN="SC Delphin Ingolstadt":MAILTO:info@delphin-ingolstadt.de
END:VEVENT
BEGIN:VEVENT
DTSTART;TZID=Europe/Berlin:20251025T090000
DTEND;TZID=Europe/Berlin:20251026T170000
DTSTAMP:20260422T063315
CREATED:20170213T193423Z
LAST-MODIFIED:20251023T160804Z
UID:1058-1761382800-1761498000@www.tsvneuburg-schwimmen.de
SUMMARY:Stadtwerke Erding Cup in Erding
DESCRIPTION:Ausschreibung\nMeldeliste\nMeldeergebnis\n  \n  \nTSV-Meldeschluss: 13.10.2025 \nAbfahrt Schlösselwiese: 25./26.10.2025 um 06:30 Uhr
URL:https://www.tsvneuburg-schwimmen.de/events/stadtwerke-erding-cup-in-erding/
LOCATION:Erding – Hallenbad\, Am Stadion 7\, Erding\, Bayern\, 85435\, Deutschland
ORGANIZER;CN="TSV 1862 Erding Abt. Schwimmen":MAILTO:kontakt@tsv-delphine.de
END:VEVENT
END:VCALENDAR