BEGIN:VCALENDAR
VERSION:2.0
PRODID:-// - ECPv6.15.18//NONSGML v1.0//EN
CALSCALE:GREGORIAN
METHOD:PUBLISH
X-ORIGINAL-URL:https://www.tsvneuburg-schwimmen.de
X-WR-CALDESC:Veranstaltungen für 
REFRESH-INTERVAL;VALUE=DURATION:PT1H
X-Robots-Tag:noindex
X-PUBLISHED-TTL:PT1H
BEGIN:VTIMEZONE
TZID:Europe/Berlin
BEGIN:DAYLIGHT
TZOFFSETFROM:+0100
TZOFFSETTO:+0200
TZNAME:CEST
DTSTART:20240331T010000
END:DAYLIGHT
BEGIN:STANDARD
TZOFFSETFROM:+0200
TZOFFSETTO:+0100
TZNAME:CET
DTSTART:20241027T010000
END:STANDARD
BEGIN:DAYLIGHT
TZOFFSETFROM:+0100
TZOFFSETTO:+0200
TZNAME:CEST
DTSTART:20250330T010000
END:DAYLIGHT
BEGIN:STANDARD
TZOFFSETFROM:+0200
TZOFFSETTO:+0100
TZNAME:CET
DTSTART:20251026T010000
END:STANDARD
BEGIN:DAYLIGHT
TZOFFSETFROM:+0100
TZOFFSETTO:+0200
TZNAME:CEST
DTSTART:20260329T010000
END:DAYLIGHT
BEGIN:STANDARD
TZOFFSETFROM:+0200
TZOFFSETTO:+0100
TZNAME:CET
DTSTART:20261025T010000
END:STANDARD
END:VTIMEZONE
BEGIN:VEVENT
DTSTART;TZID=Europe/Berlin:20251206T080000
DTEND;TZID=Europe/Berlin:20251207T170000
DTSTAMP:20260422T033711
CREATED:20171112T152903Z
LAST-MODIFIED:20251204T083525Z
UID:2150-1765008000-1765126800@www.tsvneuburg-schwimmen.de
SUMMARY:29. Int. Erlanger Röthelheim-Cup in Erlangen
DESCRIPTION:Ausschreibung\nMeldeliste\nMeldeergebnis\n\n \nTSV-Meldeschluss:                          24.11.2025
URL:https://www.tsvneuburg-schwimmen.de/events/erlanger-roethelheim-cup-erlangen/
LOCATION:Erlangen – Hannah Stockbauer Halle – Hallenbad\, Hartmannstraße 21\, Erlangen\, Bayern\, 91058\, Deutschland
ORGANIZER;CN="SSG 81 Erlangen":MAILTO:Info@SSG81Erlangen.de
END:VEVENT
END:VCALENDAR