BEGIN:VCALENDAR
VERSION:2.0
PRODID:-// - ECPv6.15.18//NONSGML v1.0//EN
CALSCALE:GREGORIAN
METHOD:PUBLISH
X-ORIGINAL-URL:https://www.tsvneuburg-schwimmen.de
X-WR-CALDESC:Veranstaltungen für 
REFRESH-INTERVAL;VALUE=DURATION:PT1H
X-Robots-Tag:noindex
X-PUBLISHED-TTL:PT1H
BEGIN:VTIMEZONE
TZID:Europe/Berlin
BEGIN:DAYLIGHT
TZOFFSETFROM:+0100
TZOFFSETTO:+0200
TZNAME:CEST
DTSTART:20250330T010000
END:DAYLIGHT
BEGIN:STANDARD
TZOFFSETFROM:+0200
TZOFFSETTO:+0100
TZNAME:CET
DTSTART:20251026T010000
END:STANDARD
BEGIN:DAYLIGHT
TZOFFSETFROM:+0100
TZOFFSETTO:+0200
TZNAME:CEST
DTSTART:20260329T010000
END:DAYLIGHT
BEGIN:STANDARD
TZOFFSETFROM:+0200
TZOFFSETTO:+0100
TZNAME:CET
DTSTART:20261025T010000
END:STANDARD
BEGIN:DAYLIGHT
TZOFFSETFROM:+0100
TZOFFSETTO:+0200
TZNAME:CEST
DTSTART:20270328T010000
END:DAYLIGHT
BEGIN:STANDARD
TZOFFSETFROM:+0200
TZOFFSETTO:+0100
TZNAME:CET
DTSTART:20271031T010000
END:STANDARD
END:VTIMEZONE
BEGIN:VEVENT
DTSTART;TZID=Europe/Berlin:20260130T080000
DTEND;TZID=Europe/Berlin:20260201T170000
DTSTAMP:20260422T011324
CREATED:20170910T131733Z
LAST-MODIFIED:20251228T142748Z
UID:2005-1769760000-1769965200@www.tsvneuburg-schwimmen.de
SUMMARY:26. Internationaler Ratisbona-Cup 2026 in Regensburg
DESCRIPTION:Ausschreibung\nMeldeliste\nMeldeergebnis\n  \nTSV-Meldeschluss:             02.01.2026
URL:https://www.tsvneuburg-schwimmen.de/events/internationaler-ratisbona-cup-in-regensburg/
LOCATION:Regensburg – Hallenbad – Westbad\, Messerschmittstraße 4\, Regensburg\, Bayern\, 93049\, Deutschland
ORGANIZER;CN="SCR Regensburg":MAILTO:info(at)sc-rgbg.de
END:VEVENT
BEGIN:VEVENT
DTSTART;TZID=Europe/Berlin:20260131T093000
DTEND;TZID=Europe/Berlin:20260201T170000
DTSTAMP:20260422T011324
CREATED:20170901T195519Z
LAST-MODIFIED:20251228T141646Z
UID:1682-1769851800-1769965200@www.tsvneuburg-schwimmen.de
SUMMARY:25. Int. Dachauer Mastercup 2026 in Dachau
DESCRIPTION:Ausschreibung\nMeldeliste\nMeldeergebnis\nInfoschreiben\nLive-Timing\n  \nTSV-Meldeschluss:                   19.01.2026
URL:https://www.tsvneuburg-schwimmen.de/events/dachauer-mastercup-in-dachau/
LOCATION:Dachau – Hallenbad\, Am Alten Wehr 1\, Dachau\, Bayern\, 85221\, Deutschland
ORGANIZER;CN="SV Dachau 1925 e.V.":MAILTO:info@svdachau.org
END:VEVENT
BEGIN:VEVENT
DTSTART;TZID=Europe/Berlin:20260207T080000
DTEND;TZID=Europe/Berlin:20260207T170000
DTSTAMP:20260422T011324
CREATED:20161023T185254Z
LAST-MODIFIED:20260112T210741Z
UID:659-1770451200-1770483600@www.tsvneuburg-schwimmen.de
SUMMARY:ISC - Intern. Swim Cup in Ingolstadt
DESCRIPTION:Ausschreibung\nMeldeliste\nMeldeergebnis\n  \nTSV-Meldeschluss:           12.01.2026
URL:https://www.tsvneuburg-schwimmen.de/events/isc-int-swim-cup-ingolstadt/
LOCATION:Ingolstast – Sportbad – Jahnstraße\, Jahnstraße 5a\, Ingolstadt\, Bayern\, 85049\, Deutschland
END:VEVENT
BEGIN:VEVENT
DTSTART;TZID=Europe/Berlin:20260207T080000
DTEND;TZID=Europe/Berlin:20260207T170000
DTSTAMP:20260422T011325
CREATED:20251228T145212Z
LAST-MODIFIED:20260202T081644Z
UID:9571-1770451200-1770483600@www.tsvneuburg-schwimmen.de
SUMMARY:45. Germeringer Zwergerlschwimmen in Germeringen
DESCRIPTION:Ausschreibung\nMeldeliste\nMeldeergebnis\n  \nTSV-Meldeschluss:
URL:https://www.tsvneuburg-schwimmen.de/events/germeringer-zwergerlschwimmen-germeringen/
LOCATION:Germering – Hallenbad – Germering\, Max-Reger-Str. 7\, Germering\, 82110
END:VEVENT
BEGIN:VEVENT
DTSTART;TZID=Europe/Berlin:20260221T090000
DTEND;TZID=Europe/Berlin:20260222T170000
DTSTAMP:20260422T011325
CREATED:20170203T200217Z
LAST-MODIFIED:20260217T183600Z
UID:1012-1771664400-1771779600@www.tsvneuburg-schwimmen.de
SUMMARY:17. Internationaler Cool Swimming Cup in Gersthofen
DESCRIPTION:Ausschreibung\nMeldeliste\nMeldeergebnis\n  \n  \nTSV-Meldeschluss:           04.02.2026
URL:https://www.tsvneuburg-schwimmen.de/events/internationaler-cool-schwimming-cup-in-gersthofen/
LOCATION:Gersthofen – Hallenbad\, Brucknerstraße 1a\, Gersthofen\, Bayern\, 86368\, Deutschland
ORGANIZER;CN="TSV Gersthofen Abt. Schwimmen":MAILTO:info@cool-swimming.de
END:VEVENT
END:VCALENDAR