BEGIN:VCALENDAR
VERSION:2.0
PRODID:-// - ECPv6.15.18//NONSGML v1.0//EN
CALSCALE:GREGORIAN
METHOD:PUBLISH
X-ORIGINAL-URL:https://www.tsvneuburg-schwimmen.de
X-WR-CALDESC:Veranstaltungen für 
REFRESH-INTERVAL;VALUE=DURATION:PT1H
X-Robots-Tag:noindex
X-PUBLISHED-TTL:PT1H
BEGIN:VTIMEZONE
TZID:Europe/Berlin
BEGIN:DAYLIGHT
TZOFFSETFROM:+0100
TZOFFSETTO:+0200
TZNAME:CEST
DTSTART:20250330T010000
END:DAYLIGHT
BEGIN:STANDARD
TZOFFSETFROM:+0200
TZOFFSETTO:+0100
TZNAME:CET
DTSTART:20251026T010000
END:STANDARD
BEGIN:DAYLIGHT
TZOFFSETFROM:+0100
TZOFFSETTO:+0200
TZNAME:CEST
DTSTART:20260329T010000
END:DAYLIGHT
BEGIN:STANDARD
TZOFFSETFROM:+0200
TZOFFSETTO:+0100
TZNAME:CET
DTSTART:20261025T010000
END:STANDARD
BEGIN:DAYLIGHT
TZOFFSETFROM:+0100
TZOFFSETTO:+0200
TZNAME:CEST
DTSTART:20270328T010000
END:DAYLIGHT
BEGIN:STANDARD
TZOFFSETFROM:+0200
TZOFFSETTO:+0100
TZNAME:CET
DTSTART:20271031T010000
END:STANDARD
END:VTIMEZONE
BEGIN:VEVENT
DTSTART;TZID=Europe/Berlin:20260612T080000
DTEND;TZID=Europe/Berlin:20260614T170000
DTSTAMP:20260422T010925
CREATED:20230406T085549Z
LAST-MODIFIED:20260305T145954Z
UID:7605-1781251200-1781456400@www.tsvneuburg-schwimmen.de
SUMMARY:37. Internatonalles Langstreckenschwimmen m. Masterswertung in Rosenheim
DESCRIPTION:Ausschreibung\nMeldeliste\nMeldeergebnis\n  \nTSV-Meldeschluss:              18.05.2026
URL:https://www.tsvneuburg-schwimmen.de/events/34-internatonalles-langstreckenschwimmen-m-masterswertung-in-rosenheim/
LOCATION:Rosenheim – Freibad\, Chiemseestraße 14\, Rosenheim\, Bayern\, 83022\, Deutschland
ORGANIZER;CN="TSV 1860 Rosenheim":MAILTO:abteilungsleiter@rosenheimer-schwimmer.de
END:VEVENT
BEGIN:VEVENT
DTSTART;TZID=Europe/Berlin:20260620T080000
DTEND;TZID=Europe/Berlin:20260621T170000
DTSTAMP:20260422T010925
CREATED:20260226T220117Z
LAST-MODIFIED:20260305T150107Z
UID:9676-1781942400-1782061200@www.tsvneuburg-schwimmen.de
SUMMARY:25. Amberger Kurfürstenpokal in Amberg
DESCRIPTION:Ausschreibung\nMeldeliste\nMeldeergebnis\n  \nTSV-Meldeschluss:               21.05.2026
URL:https://www.tsvneuburg-schwimmen.de/events/amberger-kurfuerstenpokal-amberg/
LOCATION:Amberg – Freibad – Hockermühlbad\, Hockermühlstr. 34\, Amberg\, 92224
END:VEVENT
END:VCALENDAR