BEGIN:VCALENDAR
VERSION:2.0
PRODID:-// - ECPv6.15.18//NONSGML v1.0//EN
CALSCALE:GREGORIAN
METHOD:PUBLISH
X-ORIGINAL-URL:https://www.tsvneuburg-schwimmen.de
X-WR-CALDESC:Veranstaltungen für 
REFRESH-INTERVAL;VALUE=DURATION:PT1H
X-Robots-Tag:noindex
X-PUBLISHED-TTL:PT1H
BEGIN:VTIMEZONE
TZID:Europe/Berlin
BEGIN:DAYLIGHT
TZOFFSETFROM:+0100
TZOFFSETTO:+0200
TZNAME:CEST
DTSTART:20250330T010000
END:DAYLIGHT
BEGIN:STANDARD
TZOFFSETFROM:+0200
TZOFFSETTO:+0100
TZNAME:CET
DTSTART:20251026T010000
END:STANDARD
BEGIN:DAYLIGHT
TZOFFSETFROM:+0100
TZOFFSETTO:+0200
TZNAME:CEST
DTSTART:20260329T010000
END:DAYLIGHT
BEGIN:STANDARD
TZOFFSETFROM:+0200
TZOFFSETTO:+0100
TZNAME:CET
DTSTART:20261025T010000
END:STANDARD
BEGIN:DAYLIGHT
TZOFFSETFROM:+0100
TZOFFSETTO:+0200
TZNAME:CEST
DTSTART:20270328T010000
END:DAYLIGHT
BEGIN:STANDARD
TZOFFSETFROM:+0200
TZOFFSETTO:+0100
TZNAME:CET
DTSTART:20271031T010000
END:STANDARD
END:VTIMEZONE
BEGIN:VEVENT
DTSTART;TZID=Europe/Berlin:20260717T150000
DTEND;TZID=Europe/Berlin:20260719T180000
DTSTAMP:20260422T021041
CREATED:20170203T212557Z
LAST-MODIFIED:20260226T221043Z
UID:1029-1784300400-1784484000@www.tsvneuburg-schwimmen.de
SUMMARY:Bayerische Jahrgangs- & Juniorenmeisterschaften 2026 in Würzburg
DESCRIPTION:Ausschreibung\nMeldeliste\nMeldeergebnis\n  \nTSV-Meldeschluss:               01.07.2026 \n 
URL:https://www.tsvneuburg-schwimmen.de/events/bayrische-jahrgangsmeisterschaften/
LOCATION:Würzburg – Hallenbad – Wolfgang Adami Bad\, Oberer Bogenweg 1\, Würzburg\, Bayern\, 97074\, Deutschland
END:VEVENT
END:VCALENDAR