BEGIN:VCALENDAR
VERSION:2.0
PRODID:-// - ECPv6.15.18//NONSGML v1.0//EN
CALSCALE:GREGORIAN
METHOD:PUBLISH
X-ORIGINAL-URL:https://www.tsvneuburg-schwimmen.de
X-WR-CALDESC:Veranstaltungen für 
REFRESH-INTERVAL;VALUE=DURATION:PT1H
X-Robots-Tag:noindex
X-PUBLISHED-TTL:PT1H
BEGIN:VTIMEZONE
TZID:Europe/Berlin
BEGIN:DAYLIGHT
TZOFFSETFROM:+0100
TZOFFSETTO:+0200
TZNAME:CEST
DTSTART:20250330T010000
END:DAYLIGHT
BEGIN:STANDARD
TZOFFSETFROM:+0200
TZOFFSETTO:+0100
TZNAME:CET
DTSTART:20251026T010000
END:STANDARD
BEGIN:DAYLIGHT
TZOFFSETFROM:+0100
TZOFFSETTO:+0200
TZNAME:CEST
DTSTART:20260329T010000
END:DAYLIGHT
BEGIN:STANDARD
TZOFFSETFROM:+0200
TZOFFSETTO:+0100
TZNAME:CET
DTSTART:20261025T010000
END:STANDARD
BEGIN:DAYLIGHT
TZOFFSETFROM:+0100
TZOFFSETTO:+0200
TZNAME:CEST
DTSTART:20270328T010000
END:DAYLIGHT
BEGIN:STANDARD
TZOFFSETFROM:+0200
TZOFFSETTO:+0100
TZNAME:CET
DTSTART:20271031T010000
END:STANDARD
END:VTIMEZONE
BEGIN:VEVENT
DTSTART;TZID=Europe/Berlin:20260425T080000
DTEND;TZID=Europe/Berlin:20260425T170000
DTSTAMP:20260421T222233
CREATED:20170203T204230Z
LAST-MODIFIED:20260421T153704Z
UID:1019-1777104000-1777136400@www.tsvneuburg-schwimmen.de
SUMMARY:Neufahrner Pokalschwimmen in Neufahrn
DESCRIPTION:Ausschreibung\nMeldeliste\nMeldeergebnis\n  \nTSV-Meldeschluss:                                23.03.2026 \nAbfahrt an der Schlösselwiese:          25.04.2026 um 6:45 Uhr \n 
URL:https://www.tsvneuburg-schwimmen.de/events/neufahrner-pokalschwimmen-in-neufahrn/
LOCATION:Neufahrn – Hallenbad – Neufun\, Käthe-Winkelmann-Platz 4\, Neufahrn\, Bayern\, 85375\, Deutschland
ORGANIZER;CN="SV 77 Neufahrn":MAILTO:sport@sv77.de
END:VEVENT
BEGIN:VEVENT
DTSTART;TZID=Europe/Berlin:20260425T080000
DTEND;TZID=Europe/Berlin:20260425T170000
DTSTAMP:20260421T222233
CREATED:20260325T184009Z
LAST-MODIFIED:20260325T184206Z
UID:9734-1777104000-1777136400@www.tsvneuburg-schwimmen.de
SUMMARY:3. Nürnberger Schwimmfest in Nürnberg
DESCRIPTION:Ausschreibung\nMeldeliste\nMeldeergebnis\n  \nTSV-Meldeschluss:                 23.03.2026
URL:https://www.tsvneuburg-schwimmen.de/events/nuernberger-schwimmfest-in-nuernberg/
LOCATION:Nürnberg – Hallenbad – Langwasserbad\, Breslauer Straße 251\, Nürnberg\, 90471
END:VEVENT
END:VCALENDAR