BEGIN:VCALENDAR
VERSION:2.0
PRODID:-// - ECPv6.15.18//NONSGML v1.0//EN
CALSCALE:GREGORIAN
METHOD:PUBLISH
X-ORIGINAL-URL:https://www.tsvneuburg-schwimmen.de
X-WR-CALDESC:Veranstaltungen für 
REFRESH-INTERVAL;VALUE=DURATION:PT1H
X-Robots-Tag:noindex
X-PUBLISHED-TTL:PT1H
BEGIN:VTIMEZONE
TZID:Europe/Berlin
BEGIN:DAYLIGHT
TZOFFSETFROM:+0100
TZOFFSETTO:+0200
TZNAME:CEST
DTSTART:20250330T010000
END:DAYLIGHT
BEGIN:STANDARD
TZOFFSETFROM:+0200
TZOFFSETTO:+0100
TZNAME:CET
DTSTART:20251026T010000
END:STANDARD
BEGIN:DAYLIGHT
TZOFFSETFROM:+0100
TZOFFSETTO:+0200
TZNAME:CEST
DTSTART:20260329T010000
END:DAYLIGHT
BEGIN:STANDARD
TZOFFSETFROM:+0200
TZOFFSETTO:+0100
TZNAME:CET
DTSTART:20261025T010000
END:STANDARD
BEGIN:DAYLIGHT
TZOFFSETFROM:+0100
TZOFFSETTO:+0200
TZNAME:CEST
DTSTART:20270328T010000
END:DAYLIGHT
BEGIN:STANDARD
TZOFFSETFROM:+0200
TZOFFSETTO:+0100
TZNAME:CET
DTSTART:20271031T010000
END:STANDARD
END:VTIMEZONE
BEGIN:VEVENT
DTSTART;TZID=Europe/Berlin:20260314T080000
DTEND;TZID=Europe/Berlin:20260314T170000
DTSTAMP:20260421T132351
CREATED:20170901T195921Z
LAST-MODIFIED:20260311T185310Z
UID:1686-1773475200-1773507600@www.tsvneuburg-schwimmen.de
SUMMARY:Bayerische Kurzbahnmeisterschaften der Masters 2026 in Pfaffenhofen
DESCRIPTION:Ausschreibung\nMeldeliste\nStaffelaufstellung\nMeldeergebnis\nInfoschreiben\n  \nTSV-Meldeschluss:            04.03.2026
URL:https://www.tsvneuburg-schwimmen.de/events/bayerische-kurzbahn-meisterschaften-der-masters/
LOCATION:Pfaffenhofen an der Ilm – Hallenbad\, Niederscheyerer Str. 21\, Pfaffenhofen an der Ilm\, Bayern\, 85276\, Deutschland
END:VEVENT
BEGIN:VEVENT
DTSTART;TZID=Europe/Berlin:20260315T080000
DTEND;TZID=Europe/Berlin:20260315T170000
DTSTAMP:20260421T132351
CREATED:20230202T210939Z
LAST-MODIFIED:20260311T185740Z
UID:7423-1773561600-1773594000@www.tsvneuburg-schwimmen.de
SUMMARY:Kreiskurzbahnmeisterschaften in Ingolstadt
DESCRIPTION:Ausschreibung\nMeldeliste\nMeldeergebnis\nInfoschreiben\n  \nTSV-Meldeschluss:                      04.03.2026
URL:https://www.tsvneuburg-schwimmen.de/events/schwimmkreismeisterschaften-in-ingolstadt/
LOCATION:Ingolstadt – Hallenabd – Südwest\, Lindberghstraße 71\, Ingolstadt\, Bayern\, 85051\, Deutschland
END:VEVENT
BEGIN:VEVENT
DTSTART;TZID=Europe/Berlin:20260321T080000
DTEND;TZID=Europe/Berlin:20260321T170000
DTSTAMP:20260421T132351
CREATED:20260226T211810Z
LAST-MODIFIED:20260319T095824Z
UID:9650-1774080000-1774112400@www.tsvneuburg-schwimmen.de
SUMMARY:17. Internationales Unterschleißheimer Einladungsschwimmen in Lohhof
DESCRIPTION:Ausschreibung\nMeldeliste\nMeldeergebnis\n  \n  \nTSV-Meldeschluss:              17.02.2026
URL:https://www.tsvneuburg-schwimmen.de/events/int-unterschleissheimer-einladungsschwimmen-lohhof/
LOCATION:Unterschleißheim – Hallenbad – Aquariush\, Hartmut-Herrmann-Weg 2\, Unterschleißheim\, 85716\, Germany
END:VEVENT
END:VCALENDAR