BEGIN:VCALENDAR
VERSION:2.0
PRODID:-// - ECPv6.15.18//NONSGML v1.0//EN
CALSCALE:GREGORIAN
METHOD:PUBLISH
X-ORIGINAL-URL:https://www.tsvneuburg-schwimmen.de
X-WR-CALDESC:Veranstaltungen für 
REFRESH-INTERVAL;VALUE=DURATION:PT1H
X-Robots-Tag:noindex
X-PUBLISHED-TTL:PT1H
BEGIN:VTIMEZONE
TZID:Europe/Berlin
BEGIN:DAYLIGHT
TZOFFSETFROM:+0100
TZOFFSETTO:+0200
TZNAME:CEST
DTSTART:20240331T010000
END:DAYLIGHT
BEGIN:STANDARD
TZOFFSETFROM:+0200
TZOFFSETTO:+0100
TZNAME:CET
DTSTART:20241027T010000
END:STANDARD
BEGIN:DAYLIGHT
TZOFFSETFROM:+0100
TZOFFSETTO:+0200
TZNAME:CEST
DTSTART:20250330T010000
END:DAYLIGHT
BEGIN:STANDARD
TZOFFSETFROM:+0200
TZOFFSETTO:+0100
TZNAME:CET
DTSTART:20251026T010000
END:STANDARD
BEGIN:DAYLIGHT
TZOFFSETFROM:+0100
TZOFFSETTO:+0200
TZNAME:CEST
DTSTART:20260329T010000
END:DAYLIGHT
BEGIN:STANDARD
TZOFFSETFROM:+0200
TZOFFSETTO:+0100
TZNAME:CET
DTSTART:20261025T010000
END:STANDARD
END:VTIMEZONE
BEGIN:VEVENT
DTSTART;TZID=Europe/Berlin:20251129T080000
DTEND;TZID=Europe/Berlin:20251130T170000
DTSTAMP:20260421T211823
CREATED:20160824T201731Z
LAST-MODIFIED:20251128T135547Z
UID:455-1764403200-1764522000@www.tsvneuburg-schwimmen.de
SUMMARY:50. Adventsschwimmen in Neuburg
DESCRIPTION:Ausschreibung\nDSV7-Datei\nMeldeliste – TSV Neuburg\nMeldeergebnis\nMeldeergebnis mit Glückslauf\nZeitplan\n\nTSV-Meldeschluss:                 19.11.2025
URL:https://www.tsvneuburg-schwimmen.de/events/adventsschwimmen/
LOCATION:Neuburg – Hallenbad – Parkbad\, Ludwig-Thoma-Platz 1\, Neuburg an der Donau\, Bayern\, 86633\, Deutschland
END:VEVENT
END:VCALENDAR